BEGIN:VCALENDAR
METHOD:PUBLISH
PRODID:Microsoft Exchange Server 2010
VERSION:2.0
BEGIN:VTIMEZONE
TZID:tzone://Microsoft/Utc
BEGIN:STANDARD
DTSTART:16010101T000000
TZOFFSETFROM:+0000
TZOFFSETTO:+0000
END:STANDARD
BEGIN:DAYLIGHT
DTSTART:16010101T000000
TZOFFSETFROM:+0000
TZOFFSETTO:+0000
END:DAYLIGHT
END:VTIMEZONE
BEGIN:VEVENT
ORGANIZER;CN=Kate Boehner:mailto:kate.b@jhu.edu
DESCRIPTION:The Tuberculosis Research Advancement Center (TRAC)  Seminar wi
 ll be held on Wednesday\, May 7\, 2025 from 12:00 – 1:00 PM ET in CRB-2\
 , 1M.13 or via Zoom.\n“Ultra Curto: A Controlled Trial of TB Preventive 
 Therapy with Novel Adherence Monitoring”\n\nAbiye Berihun\, BPharm\, MA\
 nMPH Candidate\, Johns Hopkins Bloomberg School of Public Health\n\nRichar
 d E. Chaisson\, MD\nProfessor of Medicine\, Epidemiology & International H
 ealth\, Johns Hopkins University\nCo-Director\, JHU TRAC & CFAR\nChief of 
 Party\, SMART4TB Consortium\nThe May TRAC seminars are presented by the Ph
 armacology & Pharmacometrics Core<https://tbcenter.jhu.edu/trac/core-progr
 ams/pharmacology/>\n\nJoin via Zoom: New link for 2024-2025\nTopic: TRAC S
 eminar Series\nTime: Every week on Wednesday at 12:00 PM Eastern Time (US 
 and Canada)\nJoin Zoom Meeting ​\nHttps://jhjhm.zoom.us/j/92431052728?pw
 d=STVlQXREQm1ITlZBZWNxWE05UzdFQT09\nMeeting ID: 924 3105 2728\nPasscode: 1
 75279\n\nInterested in presenting or organizing a seminar theme? Email kat
 e.b@jhu.edu<mailto:kate.b@jhu.edu>\n\n\n\nSign up for the TRAC Listserv he
 re.<https://jhu.us3.list-manage.com/subscribe?u=70ddf0f246007545301103c09&
 id=c6ffc70530>\n\n\n
UID:040000008200E00074C5B7101A82E00800000000F718267618B9DB01000000000000000
 0100000000BB74F140C8A0D43B22785E29674FB7E
SUMMARY:Ultra Curto: A Controlled Trial of TB Preventive Therapy with Novel
  Adherence Monitoring
DTSTART:20250507T160000Z
DTEND:20250507T170000Z
CLASS:PUBLIC
PRIORITY:5
DTSTAMP:20250429T150747Z
TRANSP:OPAQUE
STATUS:CONFIRMED
SEQUENCE:0
LOCATION:Hybrid: Zoom & CRB-2\, 1M.13
X-MICROSOFT-CDO-BUSYSTATUS:BUSY
X-MICROSOFT-CDO-INTENDEDSTATUS:BUSY
X-MICROSOFT-CDO-ALLDAYEVENT:FALSE
X-MICROSOFT-CDO-IMPORTANCE:1
X-MICROSOFT-CDO-INSTTYPE:0
X-MICROSOFT-ONLINEMEETINGEXTERNALLINK:
X-MICROSOFT-ONLINEMEETINGCONFLINK:
X-MICROSOFT-DONOTFORWARDMEETING:FALSE
X-MICROSOFT-DISALLOW-COUNTER:FALSE
X-MICROSOFT-LOCATIONDISPLAYNAME:Hybrid: Zoom & CRB-2\, 1M.13
X-MICROSOFT-LOCATIONSOURCE:LocationServices
X-MICROSOFT-LATITUDE:0
X-MICROSOFT-LONGITUDE:0
X-MICROSOFT-LOCATIONS:[{"DisplayName":"Hybrid: Zoom & CRB-2\, 1M.13"\,"Loca
 tionAnnotation":""\,"LocationSource":1\,"LocationUri":""\,"Latitude":0.0\,
 "Longitude":0.0\,"LocationStreet":""\,"LocationCity":""\,"LocationState":"
 "\,"LocationCountry":""\,"LocationPostalCode":""\,"LocationFullAddress":""
 }]
BEGIN:VALARM
DESCRIPTION:REMINDER
TRIGGER;RELATED=START:-PT15M
ACTION:DISPLAY
END:VALARM
END:VEVENT
END:VCALENDAR
